BEGIN:VCALENDAR
VERSION:2.0
PRODID:-//Fédération de la Voile des Lacs Jurassiens - ECPv6.15.20//NONSGML v1.0//EN
CALSCALE:GREGORIAN
METHOD:PUBLISH
X-WR-CALNAME:Fédération de la Voile des Lacs Jurassiens
X-ORIGINAL-URL:https://fvlj.ch
X-WR-CALDESC:Évènements pour Fédération de la Voile des Lacs Jurassiens
REFRESH-INTERVAL;VALUE=DURATION:PT1H
X-Robots-Tag:noindex
X-PUBLISHED-TTL:PT1H
BEGIN:VTIMEZONE
TZID:Europe/Paris
BEGIN:DAYLIGHT
TZOFFSETFROM:+0100
TZOFFSETTO:+0200
TZNAME:CEST
DTSTART:20240331T010000
END:DAYLIGHT
BEGIN:STANDARD
TZOFFSETFROM:+0200
TZOFFSETTO:+0100
TZNAME:CET
DTSTART:20241027T010000
END:STANDARD
BEGIN:DAYLIGHT
TZOFFSETFROM:+0100
TZOFFSETTO:+0200
TZNAME:CEST
DTSTART:20250330T010000
END:DAYLIGHT
BEGIN:STANDARD
TZOFFSETFROM:+0200
TZOFFSETTO:+0100
TZNAME:CET
DTSTART:20251026T010000
END:STANDARD
BEGIN:DAYLIGHT
TZOFFSETFROM:+0100
TZOFFSETTO:+0200
TZNAME:CEST
DTSTART:20260329T010000
END:DAYLIGHT
BEGIN:STANDARD
TZOFFSETFROM:+0200
TZOFFSETTO:+0100
TZNAME:CET
DTSTART:20261025T010000
END:STANDARD
END:VTIMEZONE
BEGIN:VEVENT
DTSTART;TZID=Europe/Paris:20251115T123000
DTEND;TZID=Europe/Paris:20251115T170000
DTSTAMP:20260424T014715
CREATED:20251021T185531Z
LAST-MODIFIED:20251021T185531Z
UID:410-1763209800-1763226000@fvlj.ch
SUMMARY:AG Swiss Sailing
DESCRIPTION:
URL:https://fvlj.ch/event/ag-swiss-sailing/
LOCATION:Ittigen – Haus des Sports\, Talgut-Zentrum 27\, Ittigen\, 3063\, Switzerland
END:VEVENT
END:VCALENDAR